BEGIN:VCALENDAR
VERSION:2.0
PRODID:-//Reaktorski Infrastrukturni center - ECPv6.15.17.1//NONSGML v1.0//EN
CALSCALE:GREGORIAN
METHOD:PUBLISH
X-ORIGINAL-URL:https://ric.ijs.si/en/
X-WR-CALDESC:Events for Reaktorski Infrastrukturni center
REFRESH-INTERVAL;VALUE=DURATION:PT1H
X-Robots-Tag:noindex
X-PUBLISHED-TTL:PT1H
BEGIN:VTIMEZONE
TZID:Europe/Ljubljana
BEGIN:DAYLIGHT
TZOFFSETFROM:+0100
TZOFFSETTO:+0200
TZNAME:CEST
DTSTART:20240331T010000
END:DAYLIGHT
BEGIN:STANDARD
TZOFFSETFROM:+0200
TZOFFSETTO:+0100
TZNAME:CET
DTSTART:20241027T010000
END:STANDARD
BEGIN:DAYLIGHT
TZOFFSETFROM:+0100
TZOFFSETTO:+0200
TZNAME:CEST
DTSTART:20250330T010000
END:DAYLIGHT
BEGIN:STANDARD
TZOFFSETFROM:+0200
TZOFFSETTO:+0100
TZNAME:CET
DTSTART:20251026T010000
END:STANDARD
BEGIN:DAYLIGHT
TZOFFSETFROM:+0100
TZOFFSETTO:+0200
TZNAME:CEST
DTSTART:20260329T010000
END:DAYLIGHT
BEGIN:STANDARD
TZOFFSETFROM:+0200
TZOFFSETTO:+0100
TZNAME:CET
DTSTART:20261025T010000
END:STANDARD
END:VTIMEZONE
BEGIN:VEVENT
DTSTART;TZID=Europe/Ljubljana:20251201T080000
DTEND;TZID=Europe/Ljubljana:20251201T170000
DTSTAMP:20260424T033831
CREATED:20250905T054839Z
LAST-MODIFIED:20250930T105932Z
UID:10001497-1764576000-1764608400@ric.ijs.si
SUMMARY:Vaja: Aktivacija primarne vode
DESCRIPTION:FMF\, SARENA
URL:https://ric.ijs.si/en/event/vaja-aktivacija-primarne-vode-9/
CATEGORIES:Vaje
END:VEVENT
BEGIN:VEVENT
DTSTART;TZID=Europe/Ljubljana:20251202T103000
DTEND;TZID=Europe/Ljubljana:20251202T110000
DTSTAMP:20260424T033831
CREATED:20251118T125644Z
LAST-MODIFIED:20251118T125644Z
UID:10001569-1764671400-1764673200@ric.ijs.si
SUMMARY:Obisk študentov Fakultete za gradbeništvo in geodezijo
DESCRIPTION:ICJT
URL:https://ric.ijs.si/en/event/obisk-studentov-fakultete-za-gradbenistvo-in-geodezijo-4/
CATEGORIES:Obiski
END:VEVENT
BEGIN:VEVENT
DTSTART;TZID=Europe/Ljubljana:20251204T080000
DTEND;TZID=Europe/Ljubljana:20251205T170000
DTSTAMP:20260424T033831
CREATED:20250508T055512Z
LAST-MODIFIED:20250508T055512Z
UID:10001435-1764835200-1764954000@ric.ijs.si
SUMMARY:Tečaj za Chalmers University
DESCRIPTION:ENEEP
URL:https://ric.ijs.si/en/event/tecaj-za-chalmers-university/
CATEGORIES:Vaje
END:VEVENT
BEGIN:VEVENT
DTSTART;TZID=Europe/Ljubljana:20251208T080000
DTEND;TZID=Europe/Ljubljana:20251208T170000
DTSTAMP:20260424T033831
CREATED:20250905T054857Z
LAST-MODIFIED:20250930T105949Z
UID:10001498-1765180800-1765213200@ric.ijs.si
SUMMARY:Vaja: Pulzni eksperiment
DESCRIPTION:FMF\, SARENA
URL:https://ric.ijs.si/en/event/vaja-pulzni-eksperiment-6/
CATEGORIES:Vaje
END:VEVENT
BEGIN:VEVENT
DTSTART;TZID=Europe/Ljubljana:20251209T080000
DTEND;TZID=Europe/Ljubljana:20251212T150000
DTSTAMP:20260424T033831
CREATED:20250725T133534Z
LAST-MODIFIED:20250912T124237Z
UID:10001477-1765267200-1765551600@ric.ijs.si
SUMMARY:Obsevanje na različnih močeh
DESCRIPTION:F9: A. Lozar \nOpremo postavljajo že v ponedeljek\, 8. 12.
URL:https://ric.ijs.si/en/event/obsevanje-na-razlicnih-moceh-23/
CATEGORIES:Obratovanje
END:VEVENT
BEGIN:VEVENT
DTSTART;TZID=Europe/Ljubljana:20251209T100000
DTEND;TZID=Europe/Ljubljana:20251209T110000
DTSTAMP:20260424T033831
CREATED:20251202T140500Z
LAST-MODIFIED:20251202T140500Z
UID:10001571-1765274400-1765278000@ric.ijs.si
SUMMARY:Obisk Študentov NTF
DESCRIPTION:ICJT
URL:https://ric.ijs.si/en/event/obisk-studentov-ntf-3/
CATEGORIES:Obiski
END:VEVENT
BEGIN:VEVENT
DTSTART;TZID=Europe/Ljubljana:20251211T110000
DTEND;TZID=Europe/Ljubljana:20251211T113000
DTSTAMP:20260424T033831
CREATED:20251202T140530Z
LAST-MODIFIED:20251202T140530Z
UID:10001572-1765450800-1765452600@ric.ijs.si
SUMMARY:Obisk študentov FE
DESCRIPTION:ICJT
URL:https://ric.ijs.si/en/event/obisk-studentov-fe-2/
CATEGORIES:Obiski
END:VEVENT
BEGIN:VEVENT
DTSTART;TZID=Europe/Ljubljana:20251211T130000
DTEND;TZID=Europe/Ljubljana:20251211T133000
DTSTAMP:20260424T033831
CREATED:20251202T140618Z
LAST-MODIFIED:20251202T140618Z
UID:10001573-1765458000-1765459800@ric.ijs.si
SUMMARY:Obisk podjetja High Tide d.o.o.
DESCRIPTION:ICJT
URL:https://ric.ijs.si/en/event/obisk-podjetja-high-tide-d-o-o/
CATEGORIES:Obiski
END:VEVENT
BEGIN:VEVENT
DTSTART;TZID=Europe/Ljubljana:20251215T080000
DTEND;TZID=Europe/Ljubljana:20251215T170000
DTSTAMP:20260424T033831
CREATED:20250905T054816Z
LAST-MODIFIED:20250930T110003Z
UID:10001496-1765785600-1765818000@ric.ijs.si
SUMMARY:Vaja: Reaktoivnostni koeficient praznin
DESCRIPTION:FMF\, SARENA
URL:https://ric.ijs.si/en/event/vaja-reaktoivnostni-koeficient-praznin/
CATEGORIES:Vaje
END:VEVENT
BEGIN:VEVENT
DTSTART;TZID=Europe/Ljubljana:20251216T080000
DTEND;TZID=Europe/Ljubljana:20251216T170000
DTSTAMP:20260424T033831
CREATED:20250725T055129Z
LAST-MODIFIED:20250725T055129Z
UID:10001476-1765872000-1765904400@ric.ijs.si
SUMMARY:Obratovanje na različnih močeh
DESCRIPTION:RIC\, EDF
URL:https://ric.ijs.si/en/event/obratovanje-na-razlicnih-moceh-6/
CATEGORIES:Obratovanje
END:VEVENT
BEGIN:VEVENT
DTSTART;TZID=Europe/Ljubljana:20251217T080000
DTEND;TZID=Europe/Ljubljana:20251217T103000
DTSTAMP:20260424T033831
CREATED:20251021T085246Z
LAST-MODIFIED:20251021T085246Z
UID:10001552-1765958400-1765967400@ric.ijs.si
SUMMARY:Obratovanje na različnih močeh
DESCRIPTION:Obnovitev licence: A. Verdir
URL:https://ric.ijs.si/en/event/obratovanje-na-razlicnih-moceh-7/
CATEGORIES:Obratovanje
END:VEVENT
BEGIN:VEVENT
DTSTART;TZID=Europe/Ljubljana:20251217T080000
DTEND;TZID=Europe/Ljubljana:20251217T120000
DTSTAMP:20260424T033831
CREATED:20251021T084840Z
LAST-MODIFIED:20251021T084840Z
UID:10001551-1765958400-1765972800@ric.ijs.si
SUMMARY:Andraž Verdir - podaljšanje licence za vodjo izmene\, URSJV
DESCRIPTION:
URL:https://ric.ijs.si/en/event/andraz-verdir-podaljsanje-licence-za-vodjo-izmene-ursjv/
CATEGORIES:Reaktor ne obratuje
END:VEVENT
BEGIN:VEVENT
DTSTART;TZID=Europe/Ljubljana:20251218T080000
DTEND;TZID=Europe/Ljubljana:20251218T150000
DTSTAMP:20260424T033831
CREATED:20251209T113426Z
LAST-MODIFIED:20251209T113426Z
UID:10001574-1766044800-1766070000@ric.ijs.si
SUMMARY:Obsevanje na različnih močeh
DESCRIPTION:F9: I. Mandić
URL:https://ric.ijs.si/en/event/obsevanje-na-razlicnih-moceh-25/
CATEGORIES:Obratovanje
END:VEVENT
BEGIN:VEVENT
DTSTART;TZID=Europe/Ljubljana:20251222T080000
DTEND;TZID=Europe/Ljubljana:20251222T150000
DTSTAMP:20260424T033831
CREATED:20251124T133031Z
LAST-MODIFIED:20251205T135448Z
UID:10001570-1766390400-1766415600@ric.ijs.si
SUMMARY:Čiščenje prostorov
DESCRIPTION:TS
URL:https://ric.ijs.si/en/event/ciscenje-prostorov/
CATEGORIES:Reaktor ne obratuje
END:VEVENT
BEGIN:VEVENT
DTSTART;TZID=Europe/Ljubljana:20251223T080000
DTEND;TZID=Europe/Ljubljana:20251231T170000
DTSTAMP:20260424T033831
CREATED:20251218T080942Z
LAST-MODIFIED:20251218T080942Z
UID:10001575-1766476800-1767200400@ric.ijs.si
SUMMARY:Reaktor ne obratuje
DESCRIPTION:Izvajanje meritev ozadja: F8
URL:https://ric.ijs.si/en/event/reaktor-ne-obratuje-18/
CATEGORIES:Reaktor ne obratuje
END:VEVENT
BEGIN:VEVENT
DTSTART;TZID=Europe/Ljubljana:20251229T123000
DTEND;TZID=Europe/Ljubljana:20251229T130000
DTSTAMP:20260424T033831
CREATED:20251224T123246Z
LAST-MODIFIED:20251224T123246Z
UID:10001577-1767011400-1767013200@ric.ijs.si
SUMMARY:Obisk 17 obiskovalcev - po dogovoru
DESCRIPTION:ICJT
URL:https://ric.ijs.si/en/event/obisk-17-obiskovalcev-po-dogovoru/
CATEGORIES:Obiski
END:VEVENT
END:VCALENDAR