BEGIN:VCALENDAR
VERSION:2.0
PRODID:-//Reaktorski Infrastrukturni center - ECPv6.15.17.1//NONSGML v1.0//EN
CALSCALE:GREGORIAN
METHOD:PUBLISH
X-WR-CALNAME:Reaktorski Infrastrukturni center
X-ORIGINAL-URL:https://ric.ijs.si/en/
X-WR-CALDESC:Events for Reaktorski Infrastrukturni center
REFRESH-INTERVAL;VALUE=DURATION:PT1H
X-Robots-Tag:noindex
X-PUBLISHED-TTL:PT1H
BEGIN:VTIMEZONE
TZID:Europe/Helsinki
BEGIN:DAYLIGHT
TZOFFSETFROM:+0200
TZOFFSETTO:+0300
TZNAME:EEST
DTSTART:20200329T010000
END:DAYLIGHT
BEGIN:STANDARD
TZOFFSETFROM:+0300
TZOFFSETTO:+0200
TZNAME:EET
DTSTART:20201025T010000
END:STANDARD
BEGIN:DAYLIGHT
TZOFFSETFROM:+0200
TZOFFSETTO:+0300
TZNAME:EEST
DTSTART:20210328T010000
END:DAYLIGHT
BEGIN:STANDARD
TZOFFSETFROM:+0300
TZOFFSETTO:+0200
TZNAME:EET
DTSTART:20211031T010000
END:STANDARD
BEGIN:DAYLIGHT
TZOFFSETFROM:+0200
TZOFFSETTO:+0300
TZNAME:EEST
DTSTART:20220327T010000
END:DAYLIGHT
BEGIN:STANDARD
TZOFFSETFROM:+0300
TZOFFSETTO:+0200
TZNAME:EET
DTSTART:20221030T010000
END:STANDARD
END:VTIMEZONE
BEGIN:VEVENT
DTSTART;TZID=Europe/Helsinki:20211108T080000
DTEND;TZID=Europe/Helsinki:20211108T120000
DTSTAMP:20260419T222613
CREATED:20210921T140647Z
LAST-MODIFIED:20210921T140647Z
UID:10000779-1636358400-1636372800@ric.ijs.si
SUMMARY:Termična kalibracija
DESCRIPTION:
URL:https://ric.ijs.si/en/event/termicna-kalibracija/
CATEGORIES:F8,Vaje
END:VEVENT
BEGIN:VEVENT
DTSTART;TZID=Europe/Helsinki:20211115T080000
DTEND;TZID=Europe/Helsinki:20211115T120000
DTSTAMP:20260419T222613
CREATED:20210921T140717Z
LAST-MODIFIED:20211102T111023Z
UID:10000780-1636963200-1636977600@ric.ijs.si
SUMMARY:Vaja: Umeritev regulacijske palice
DESCRIPTION:
URL:https://ric.ijs.si/en/event/umeritev-regulacijske-palice/
CATEGORIES:F8,Vaje
END:VEVENT
BEGIN:VEVENT
DTSTART;TZID=Europe/Helsinki:20211122T080000
DTEND;TZID=Europe/Helsinki:20211122T120000
DTSTAMP:20260419T222613
CREATED:20210921T140750Z
LAST-MODIFIED:20210921T140750Z
UID:10000781-1637568000-1637582400@ric.ijs.si
SUMMARY:Meritev porazdelitve fluksa
DESCRIPTION:
URL:https://ric.ijs.si/en/event/meritev-porazdelitve-fluksa/
CATEGORIES:F8,Vaje
END:VEVENT
BEGIN:VEVENT
DTSTART;TZID=Europe/Helsinki:20211129T080000
DTEND;TZID=Europe/Helsinki:20211129T120000
DTSTAMP:20260419T222613
CREATED:20210921T140819Z
LAST-MODIFIED:20210921T140819Z
UID:10000782-1638172800-1638187200@ric.ijs.si
SUMMARY:Vaja: Zastrupitev s ksenonom
DESCRIPTION:
URL:https://ric.ijs.si/en/event/vaja-zastrupitev-s-ksenonom/
CATEGORIES:F8,Vaje
END:VEVENT
END:VCALENDAR