BEGIN:VCALENDAR
VERSION:2.0
PRODID:-//Reaktorski Infrastrukturni center - ECPv6.15.17.1//NONSGML v1.0//EN
CALSCALE:GREGORIAN
METHOD:PUBLISH
X-ORIGINAL-URL:https://ric.ijs.si/en/
X-WR-CALDESC:Events for Reaktorski Infrastrukturni center
REFRESH-INTERVAL;VALUE=DURATION:PT1H
X-Robots-Tag:noindex
X-PUBLISHED-TTL:PT1H
BEGIN:VTIMEZONE
TZID:Europe/Ljubljana
BEGIN:DAYLIGHT
TZOFFSETFROM:+0100
TZOFFSETTO:+0200
TZNAME:CEST
DTSTART:20220327T010000
END:DAYLIGHT
BEGIN:STANDARD
TZOFFSETFROM:+0200
TZOFFSETTO:+0100
TZNAME:CET
DTSTART:20221030T010000
END:STANDARD
BEGIN:DAYLIGHT
TZOFFSETFROM:+0100
TZOFFSETTO:+0200
TZNAME:CEST
DTSTART:20230326T010000
END:DAYLIGHT
BEGIN:STANDARD
TZOFFSETFROM:+0200
TZOFFSETTO:+0100
TZNAME:CET
DTSTART:20231029T010000
END:STANDARD
BEGIN:DAYLIGHT
TZOFFSETFROM:+0100
TZOFFSETTO:+0200
TZNAME:CEST
DTSTART:20240331T010000
END:DAYLIGHT
BEGIN:STANDARD
TZOFFSETFROM:+0200
TZOFFSETTO:+0100
TZNAME:CET
DTSTART:20241027T010000
END:STANDARD
END:VTIMEZONE
BEGIN:VEVENT
DTSTART;TZID=Europe/Ljubljana:20231002T090000
DTEND;TZID=Europe/Ljubljana:20231002T103000
DTSTAMP:20260421T125811
CREATED:20230925T062110Z
LAST-MODIFIED:20230925T062110Z
UID:10001217-1696237200-1696242600@ric.ijs.si
SUMMARY:Obsevanje na nizkih močeh
DESCRIPTION:F9: R. Dolenec
URL:https://ric.ijs.si/en/event/obsevanje-na-nizkih-moceh-2/
CATEGORIES:Obratovanje
END:VEVENT
BEGIN:VEVENT
DTSTART;TZID=Europe/Ljubljana:20231005T060000
DTEND;TZID=Europe/Ljubljana:20231005T180000
DTSTAMP:20260421T125811
CREATED:20230929T081442Z
LAST-MODIFIED:20230929T081442Z
UID:10000979-1696485600-1696528800@ric.ijs.si
SUMMARY:Obsevanje na 250 kW
DESCRIPTION:O2: R. Jaćimović
URL:https://ric.ijs.si/en/event/obsevanje-na-250-kw-35/
CATEGORIES:Obratovanje
END:VEVENT
BEGIN:VEVENT
DTSTART;TZID=Europe/Ljubljana:20231020T130000
DTEND;TZID=Europe/Ljubljana:20231020T150000
DTSTAMP:20260421T125811
CREATED:20231018T072712Z
LAST-MODIFIED:20231018T072712Z
UID:10001237-1697806800-1697814000@ric.ijs.si
SUMMARY:Obsevanje na različnih močeh
DESCRIPTION:F9: V. Cindro
URL:https://ric.ijs.si/en/event/obsevanje-na-razlicnih-moceh-16/
CATEGORIES:F9,Obratovanje
END:VEVENT
BEGIN:VEVENT
DTSTART;TZID=Europe/Ljubljana:20231023T080000
DTEND;TZID=Europe/Ljubljana:20231023T130000
DTSTAMP:20260421T125811
CREATED:20231016T131105Z
LAST-MODIFIED:20231016T131105Z
UID:10000986-1698048000-1698066000@ric.ijs.si
SUMMARY:Priprave na zagonske teste
DESCRIPTION:Preventivna rezervacija
URL:https://ric.ijs.si/en/event/priprave-na-zagonske-teste-3/
CATEGORIES:F8,Obratovanje
END:VEVENT
BEGIN:VEVENT
DTSTART;TZID=Europe/Ljubljana:20231025T080000
DTEND;TZID=Europe/Ljubljana:20231025T130000
DTSTAMP:20260421T125811
CREATED:20231016T131216Z
LAST-MODIFIED:20231016T131325Z
UID:10000988-1698220800-1698238800@ric.ijs.si
SUMMARY:Priprave na zagonske teste
DESCRIPTION:Preventivna rezervacija
URL:https://ric.ijs.si/en/event/priprave-na-zagonske-teste-4/
CATEGORIES:F8,Obratovanje
END:VEVENT
END:VCALENDAR