BEGIN:VCALENDAR
VERSION:2.0
PRODID:-//Reaktorski Infrastrukturni center - ECPv6.15.17.1//NONSGML v1.0//EN
CALSCALE:GREGORIAN
METHOD:PUBLISH
X-ORIGINAL-URL:https://ric.ijs.si/en/
X-WR-CALDESC:Events for Reaktorski Infrastrukturni center
REFRESH-INTERVAL;VALUE=DURATION:PT1H
X-Robots-Tag:noindex
X-PUBLISHED-TTL:PT1H
BEGIN:VTIMEZONE
TZID:Europe/Ljubljana
BEGIN:DAYLIGHT
TZOFFSETFROM:+0100
TZOFFSETTO:+0200
TZNAME:CEST
DTSTART:20220327T010000
END:DAYLIGHT
BEGIN:STANDARD
TZOFFSETFROM:+0200
TZOFFSETTO:+0100
TZNAME:CET
DTSTART:20221030T010000
END:STANDARD
BEGIN:DAYLIGHT
TZOFFSETFROM:+0100
TZOFFSETTO:+0200
TZNAME:CEST
DTSTART:20230326T010000
END:DAYLIGHT
BEGIN:STANDARD
TZOFFSETFROM:+0200
TZOFFSETTO:+0100
TZNAME:CET
DTSTART:20231029T010000
END:STANDARD
BEGIN:DAYLIGHT
TZOFFSETFROM:+0100
TZOFFSETTO:+0200
TZNAME:CEST
DTSTART:20240331T010000
END:DAYLIGHT
BEGIN:STANDARD
TZOFFSETFROM:+0200
TZOFFSETTO:+0100
TZNAME:CET
DTSTART:20241027T010000
END:STANDARD
END:VTIMEZONE
BEGIN:VEVENT
DTSTART;TZID=Europe/Ljubljana:20230907T060000
DTEND;TZID=Europe/Ljubljana:20230907T180000
DTSTAMP:20260421T141759
CREATED:20230830T083445Z
LAST-MODIFIED:20230830T083445Z
UID:10001201-1694066400-1694109600@ric.ijs.si
SUMMARY:Obsevanje na 250 kW
DESCRIPTION:O2: R. Jaćimović
URL:https://ric.ijs.si/en/event/obsevanje-na-250-kw-34/
CATEGORIES:Obratovanje
END:VEVENT
BEGIN:VEVENT
DTSTART;TZID=Europe/Ljubljana:20230913T083000
DTEND;TZID=Europe/Ljubljana:20230913T153000
DTSTAMP:20260421T141759
CREATED:20230907T091826Z
LAST-MODIFIED:20230907T091826Z
UID:10001213-1694593800-1694619000@ric.ijs.si
SUMMARY:Euratom
DESCRIPTION:
URL:https://ric.ijs.si/en/event/euratom/
CATEGORIES:Obiski,Obratovanje
END:VEVENT
END:VCALENDAR