BEGIN:VCALENDAR
VERSION:2.0
PRODID:-//Reaktorski Infrastrukturni center - ECPv6.15.17.1//NONSGML v1.0//EN
CALSCALE:GREGORIAN
METHOD:PUBLISH
X-ORIGINAL-URL:https://ric.ijs.si/en/
X-WR-CALDESC:Events for Reaktorski Infrastrukturni center
REFRESH-INTERVAL;VALUE=DURATION:PT1H
X-Robots-Tag:noindex
X-PUBLISHED-TTL:PT1H
BEGIN:VTIMEZONE
TZID:Europe/Ljubljana
BEGIN:DAYLIGHT
TZOFFSETFROM:+0100
TZOFFSETTO:+0200
TZNAME:CEST
DTSTART:20220327T010000
END:DAYLIGHT
BEGIN:STANDARD
TZOFFSETFROM:+0200
TZOFFSETTO:+0100
TZNAME:CET
DTSTART:20221030T010000
END:STANDARD
BEGIN:DAYLIGHT
TZOFFSETFROM:+0100
TZOFFSETTO:+0200
TZNAME:CEST
DTSTART:20230326T010000
END:DAYLIGHT
BEGIN:STANDARD
TZOFFSETFROM:+0200
TZOFFSETTO:+0100
TZNAME:CET
DTSTART:20231029T010000
END:STANDARD
BEGIN:DAYLIGHT
TZOFFSETFROM:+0100
TZOFFSETTO:+0200
TZNAME:CEST
DTSTART:20240331T010000
END:DAYLIGHT
BEGIN:STANDARD
TZOFFSETFROM:+0200
TZOFFSETTO:+0100
TZNAME:CET
DTSTART:20241027T010000
END:STANDARD
END:VTIMEZONE
BEGIN:VEVENT
DTSTART;TZID=Europe/Ljubljana:20230714T080000
DTEND;TZID=Europe/Ljubljana:20230714T130000
DTSTAMP:20260421T171335
CREATED:20230707T075249Z
LAST-MODIFIED:20230707T075249Z
UID:10000943-1689321600-1689339600@ric.ijs.si
SUMMARY:Obsevanja na 250 kW
DESCRIPTION:O2: R. Jaćimović
URL:https://ric.ijs.si/en/event/obsevanja-na-250-kw-6/
CATEGORIES:Obratovanje
END:VEVENT
BEGIN:VEVENT
DTSTART;TZID=Europe/Ljubljana:20230717T090000
DTEND;TZID=Europe/Ljubljana:20230717T110000
DTSTAMP:20260421T171335
CREATED:20230705T100021Z
LAST-MODIFIED:20230705T102445Z
UID:10000940-1689584400-1689591600@ric.ijs.si
SUMMARY:Obsevanje z žarki gama
DESCRIPTION:B3 – A. Berlec
URL:https://ric.ijs.si/en/event/obsevanje-z-zarki-gama/
CATEGORIES:Obratovanje
END:VEVENT
END:VCALENDAR