BEGIN:VCALENDAR
VERSION:2.0
PRODID:-//Reaktorski Infrastrukturni center - ECPv6.15.17.1//NONSGML v1.0//EN
CALSCALE:GREGORIAN
METHOD:PUBLISH
X-ORIGINAL-URL:https://ric.ijs.si/en/
X-WR-CALDESC:Events for Reaktorski Infrastrukturni center
REFRESH-INTERVAL;VALUE=DURATION:PT1H
X-Robots-Tag:noindex
X-PUBLISHED-TTL:PT1H
BEGIN:VTIMEZONE
TZID:Europe/Ljubljana
BEGIN:DAYLIGHT
TZOFFSETFROM:+0100
TZOFFSETTO:+0200
TZNAME:CEST
DTSTART:20220327T010000
END:DAYLIGHT
BEGIN:STANDARD
TZOFFSETFROM:+0200
TZOFFSETTO:+0100
TZNAME:CET
DTSTART:20221030T010000
END:STANDARD
BEGIN:DAYLIGHT
TZOFFSETFROM:+0100
TZOFFSETTO:+0200
TZNAME:CEST
DTSTART:20230326T010000
END:DAYLIGHT
BEGIN:STANDARD
TZOFFSETFROM:+0200
TZOFFSETTO:+0100
TZNAME:CET
DTSTART:20231029T010000
END:STANDARD
BEGIN:DAYLIGHT
TZOFFSETFROM:+0100
TZOFFSETTO:+0200
TZNAME:CEST
DTSTART:20240331T010000
END:DAYLIGHT
BEGIN:STANDARD
TZOFFSETFROM:+0200
TZOFFSETTO:+0100
TZNAME:CET
DTSTART:20241027T010000
END:STANDARD
END:VTIMEZONE
BEGIN:VEVENT
DTSTART;TZID=Europe/Ljubljana:20230601T080000
DTEND;TZID=Europe/Ljubljana:20230601T150000
DTSTAMP:20260421T184227
CREATED:20230529T071505Z
LAST-MODIFIED:20230529T071559Z
UID:10001154-1685606400-1685631600@ric.ijs.si
SUMMARY:Obsevanje na 250 kW
DESCRIPTION:F9\, RIC
URL:https://ric.ijs.si/en/event/obsevanje-na-250-kw-30/
CATEGORIES:Obratovanje
END:VEVENT
BEGIN:VEVENT
DTSTART;TZID=Europe/Ljubljana:20230602T070000
DTEND;TZID=Europe/Ljubljana:20230602T150000
DTSTAMP:20260421T184227
CREATED:20230602T095241Z
LAST-MODIFIED:20230602T095241Z
UID:10000927-1685689200-1685718000@ric.ijs.si
SUMMARY:Obseavnje na 250 kW
DESCRIPTION:RIC\, F8
URL:https://ric.ijs.si/en/event/obseavnje-na-250-kw/
CATEGORIES:Obratovanje
END:VEVENT
BEGIN:VEVENT
DTSTART;TZID=Europe/Ljubljana:20230605T080000
DTEND;TZID=Europe/Ljubljana:20230609T160000
DTSTAMP:20260421T184227
CREATED:20230112T124201Z
LAST-MODIFIED:20230112T124201Z
UID:10001003-1685952000-1686326400@ric.ijs.si
SUMMARY:Obsevanje na različnih močeh
DESCRIPTION:F8\, CEA
URL:https://ric.ijs.si/en/event/obsevanje-na-razlicnih-moceh-8/
CATEGORIES:Obratovanje
END:VEVENT
BEGIN:VEVENT
DTSTART;TZID=Europe/Ljubljana:20230622T050000
DTEND;TZID=Europe/Ljubljana:20230622T173000
DTSTAMP:20260421T184227
CREATED:20230606T114158Z
LAST-MODIFIED:20230606T114158Z
UID:10000933-1687410000-1687455000@ric.ijs.si
SUMMARY:Obsevanje na 250 kW
DESCRIPTION:F8: V. Radulović
URL:https://ric.ijs.si/en/event/obsevanje-na-250-kw-32/
CATEGORIES:Obratovanje
END:VEVENT
END:VCALENDAR