BEGIN:VCALENDAR
VERSION:2.0
PRODID:-//Reaktorski Infrastrukturni center - ECPv6.15.17.1//NONSGML v1.0//EN
CALSCALE:GREGORIAN
METHOD:PUBLISH
X-ORIGINAL-URL:https://ric.ijs.si/en/
X-WR-CALDESC:Events for Reaktorski Infrastrukturni center
REFRESH-INTERVAL;VALUE=DURATION:PT1H
X-Robots-Tag:noindex
X-PUBLISHED-TTL:PT1H
BEGIN:VTIMEZONE
TZID:Europe/Ljubljana
BEGIN:DAYLIGHT
TZOFFSETFROM:+0100
TZOFFSETTO:+0200
TZNAME:CEST
DTSTART:20220327T010000
END:DAYLIGHT
BEGIN:STANDARD
TZOFFSETFROM:+0200
TZOFFSETTO:+0100
TZNAME:CET
DTSTART:20221030T010000
END:STANDARD
BEGIN:DAYLIGHT
TZOFFSETFROM:+0100
TZOFFSETTO:+0200
TZNAME:CEST
DTSTART:20230326T010000
END:DAYLIGHT
BEGIN:STANDARD
TZOFFSETFROM:+0200
TZOFFSETTO:+0100
TZNAME:CET
DTSTART:20231029T010000
END:STANDARD
BEGIN:DAYLIGHT
TZOFFSETFROM:+0100
TZOFFSETTO:+0200
TZNAME:CEST
DTSTART:20240331T010000
END:DAYLIGHT
BEGIN:STANDARD
TZOFFSETFROM:+0200
TZOFFSETTO:+0100
TZNAME:CET
DTSTART:20241027T010000
END:STANDARD
END:VTIMEZONE
BEGIN:VEVENT
DTSTART;TZID=Europe/Ljubljana:20230301T090000
DTEND;TZID=Europe/Ljubljana:20230301T110000
DTSTAMP:20260422T002007
CREATED:20230223T085252Z
LAST-MODIFIED:20230227T104536Z
UID:10000863-1677661200-1677668400@ric.ijs.si
SUMMARY:Obsevanje na različnih močeh
DESCRIPTION:F9: V. Cindro
URL:https://ric.ijs.si/en/event/obsevanje-na-razlicnih-moceh-12/
CATEGORIES:F9,Obratovanje
END:VEVENT
BEGIN:VEVENT
DTSTART;TZID=Europe/Ljubljana:20230307T080000
DTEND;TZID=Europe/Ljubljana:20230308T160000
DTSTAMP:20260422T002008
CREATED:20230112T124234Z
LAST-MODIFIED:20230112T124234Z
UID:10001004-1678176000-1678291200@ric.ijs.si
SUMMARY:Obsevanje na različnih močeh
DESCRIPTION:F8\, CEA\, I-Tech
URL:https://ric.ijs.si/en/event/obsevanje-na-razlicnih-moceh-9/
CATEGORIES:Obratovanje
END:VEVENT
BEGIN:VEVENT
DTSTART;TZID=Europe/Ljubljana:20230309T080000
DTEND;TZID=Europe/Ljubljana:20230309T160000
DTSTAMP:20260422T002008
CREATED:20230130T120443Z
LAST-MODIFIED:20230309T104413Z
UID:10000856-1678348800-1678377600@ric.ijs.si
SUMMARY:Obsevanje na različnih močeh
DESCRIPTION:EUROLABS
URL:https://ric.ijs.si/en/event/obsevanje-na-razlicnih-moceh-11/
CATEGORIES:F9,Obratovanje,RIC
END:VEVENT
BEGIN:VEVENT
DTSTART;TZID=Europe/Ljubljana:20230310T090000
DTEND;TZID=Europe/Ljubljana:20230310T120000
DTSTAMP:20260422T002008
CREATED:20230309T104309Z
LAST-MODIFIED:20230309T104503Z
UID:10000868-1678438800-1678449600@ric.ijs.si
SUMMARY:Obsevanje na različnih močeh
DESCRIPTION:F9: I. Mandić
URL:https://ric.ijs.si/en/event/obsevanje-na-razlicnih-moceh-13/
CATEGORIES:F9,Obratovanje
END:VEVENT
BEGIN:VEVENT
DTSTART;TZID=Europe/Ljubljana:20230316T090000
DTEND;TZID=Europe/Ljubljana:20230316T120000
DTSTAMP:20260422T002008
CREATED:20230315T111315Z
LAST-MODIFIED:20230315T111315Z
UID:10001079-1678957200-1678968000@ric.ijs.si
SUMMARY:Priprave na vajo Sevanje Čerenkova
DESCRIPTION:F8: J. Peric
URL:https://ric.ijs.si/en/event/priprave-na-vajo-sevanje-cerenkova/
CATEGORIES:F8,Obratovanje
END:VEVENT
BEGIN:VEVENT
DTSTART;TZID=Europe/Ljubljana:20230317T060000
DTEND;TZID=Europe/Ljubljana:20230317T130000
DTSTAMP:20260422T002008
CREATED:20230315T104525Z
LAST-MODIFIED:20230315T120319Z
UID:10001073-1679032800-1679058000@ric.ijs.si
SUMMARY:Meritev doznih polj
DESCRIPTION:Reaktor dela na 25o kW
URL:https://ric.ijs.si/en/event/meritev-doznih-polj/
CATEGORIES:Obratovanje
END:VEVENT
BEGIN:VEVENT
DTSTART;TZID=Europe/Ljubljana:20230321T090000
DTEND;TZID=Europe/Ljubljana:20230321T120000
DTSTAMP:20260422T002008
CREATED:20230315T104634Z
LAST-MODIFIED:20230315T104713Z
UID:10001075-1679389200-1679400000@ric.ijs.si
SUMMARY:Obsevanje na različnih močeh
DESCRIPTION:F9: I. Mandić
URL:https://ric.ijs.si/en/event/obsevanje-na-razlicnih-moceh-14/
CATEGORIES:F9,Obratovanje
END:VEVENT
BEGIN:VEVENT
DTSTART;TZID=Europe/Ljubljana:20230322T080000
DTEND;TZID=Europe/Ljubljana:20230323T170000
DTSTAMP:20260422T002008
CREATED:20230307T162203Z
LAST-MODIFIED:20230307T162203Z
UID:10000867-1679472000-1679590800@ric.ijs.si
SUMMARY:Obratovanje na različnih močeh
DESCRIPTION:F8\, CEA – SiC
URL:https://ric.ijs.si/en/event/obratovanje-na-razlicnih-moceh-4/
CATEGORIES:Obratovanje
END:VEVENT
END:VCALENDAR