BEGIN:VCALENDAR
VERSION:2.0
PRODID:-//Reaktorski Infrastrukturni center - ECPv6.15.17.1//NONSGML v1.0//EN
CALSCALE:GREGORIAN
METHOD:PUBLISH
X-WR-CALNAME:Reaktorski Infrastrukturni center
X-ORIGINAL-URL:https://ric.ijs.si/en/
X-WR-CALDESC:Events for Reaktorski Infrastrukturni center
REFRESH-INTERVAL;VALUE=DURATION:PT1H
X-Robots-Tag:noindex
X-PUBLISHED-TTL:PT1H
BEGIN:VTIMEZONE
TZID:Europe/Ljubljana
BEGIN:DAYLIGHT
TZOFFSETFROM:+0100
TZOFFSETTO:+0200
TZNAME:CEST
DTSTART:20220327T010000
END:DAYLIGHT
BEGIN:STANDARD
TZOFFSETFROM:+0200
TZOFFSETTO:+0100
TZNAME:CET
DTSTART:20221030T010000
END:STANDARD
BEGIN:DAYLIGHT
TZOFFSETFROM:+0100
TZOFFSETTO:+0200
TZNAME:CEST
DTSTART:20230326T010000
END:DAYLIGHT
BEGIN:STANDARD
TZOFFSETFROM:+0200
TZOFFSETTO:+0100
TZNAME:CET
DTSTART:20231029T010000
END:STANDARD
BEGIN:DAYLIGHT
TZOFFSETFROM:+0100
TZOFFSETTO:+0200
TZNAME:CEST
DTSTART:20240331T010000
END:DAYLIGHT
BEGIN:STANDARD
TZOFFSETFROM:+0200
TZOFFSETTO:+0100
TZNAME:CET
DTSTART:20241027T010000
END:STANDARD
END:VTIMEZONE
BEGIN:VEVENT
DTSTART;TZID=Europe/Ljubljana:20230103T130000
DTEND;TZID=Europe/Ljubljana:20230103T143000
DTSTAMP:20260422T031747
CREATED:20230104T071712Z
LAST-MODIFIED:20230112T103021Z
UID:10000996-1672750800-1672756200@ric.ijs.si
SUMMARY:Obsevanje na 250 kW
DESCRIPTION:RIC
URL:https://ric.ijs.si/en/event/obsevanje-na-250-kw-18/
CATEGORIES:Obratovanje
END:VEVENT
BEGIN:VEVENT
DTSTART;TZID=Europe/Ljubljana:20230105T090000
DTEND;TZID=Europe/Ljubljana:20230105T143000
DTSTAMP:20260422T031747
CREATED:20230104T071740Z
LAST-MODIFIED:20230112T103043Z
UID:10000997-1672909200-1672929000@ric.ijs.si
SUMMARY:Obsevanje na 250 kW
DESCRIPTION:RIC in F9
URL:https://ric.ijs.si/en/event/obsevanje-na-250-kw-19/
CATEGORIES:Obratovanje
END:VEVENT
BEGIN:VEVENT
DTSTART;TZID=Europe/Ljubljana:20230110T080000
DTEND;TZID=Europe/Ljubljana:20230110T170000
DTSTAMP:20260422T031747
CREATED:20221202T150125Z
LAST-MODIFIED:20221202T150125Z
UID:10000835-1673337600-1673370000@ric.ijs.si
SUMMARY:Obsevanje na različnih močeh
DESCRIPTION:Kemijski institut
URL:https://ric.ijs.si/en/event/obsevanje-na-razlicnih-moceh-6/
CATEGORIES:Obratovanje
END:VEVENT
BEGIN:VEVENT
DTSTART;TZID=Europe/Ljubljana:20230112T060000
DTEND;TZID=Europe/Ljubljana:20230112T180000
DTSTAMP:20260422T031747
CREATED:20230109T094225Z
LAST-MODIFIED:20230112T103108Z
UID:10000998-1673503200-1673546400@ric.ijs.si
SUMMARY:Obsevanje na 250 kW
DESCRIPTION:O2 – Jaćimović
URL:https://ric.ijs.si/en/event/obsevanje-na-250-kw-20/
CATEGORIES:Obratovanje
END:VEVENT
BEGIN:VEVENT
DTSTART;TZID=Europe/Ljubljana:20230113T090000
DTEND;TZID=Europe/Ljubljana:20230113T110000
DTSTAMP:20260422T031747
CREATED:20230112T122749Z
LAST-MODIFIED:20230112T123126Z
UID:10001001-1673600400-1673607600@ric.ijs.si
SUMMARY:Obsevanje na 250 kW
DESCRIPTION:F9\, V. Cindro
URL:https://ric.ijs.si/en/event/obsevanje-na-250-kw-22/
CATEGORIES:Obratovanje
END:VEVENT
BEGIN:VEVENT
DTSTART;TZID=Europe/Ljubljana:20230116T080000
DTEND;TZID=Europe/Ljubljana:20230116T103000
DTSTAMP:20260422T031747
CREATED:20230109T094402Z
LAST-MODIFIED:20230112T102944Z
UID:10000999-1673856000-1673865000@ric.ijs.si
SUMMARY:Obsevanje na 250 kW
DESCRIPTION:O2: Jaćimović
URL:https://ric.ijs.si/en/event/obsevanje-na-250-kw-21/
CATEGORIES:Obratovanje
END:VEVENT
BEGIN:VEVENT
DTSTART;TZID=Europe/Ljubljana:20230118T060000
DTEND;TZID=Europe/Ljubljana:20230118T180000
DTSTAMP:20260422T031747
CREATED:20230119T073838Z
LAST-MODIFIED:20230119T073838Z
UID:10001007-1674021600-1674064800@ric.ijs.si
SUMMARY:Obsevanje na 250 kW
DESCRIPTION:O2: R. Jaćimović
URL:https://ric.ijs.si/en/event/obsevanje-na-250-kw-23/
CATEGORIES:Obratovanje
END:VEVENT
BEGIN:VEVENT
DTSTART;TZID=Europe/Ljubljana:20230119T130000
DTEND;TZID=Europe/Ljubljana:20230119T160000
DTSTAMP:20260422T031747
CREATED:20230119T073921Z
LAST-MODIFIED:20230119T073921Z
UID:10001008-1674133200-1674144000@ric.ijs.si
SUMMARY:Obsevanja na nizkih močeh
DESCRIPTION:EUROLABS
URL:https://ric.ijs.si/en/event/obsevanja-na-nizkih-moceh/
CATEGORIES:Obratovanje
END:VEVENT
BEGIN:VEVENT
DTSTART;TZID=Europe/Ljubljana:20230120T080000
DTEND;TZID=Europe/Ljubljana:20230120T160000
DTSTAMP:20260422T031747
CREATED:20230119T073940Z
LAST-MODIFIED:20230119T073940Z
UID:10001009-1674201600-1674230400@ric.ijs.si
SUMMARY:Obsevanja na nizkih močeh
DESCRIPTION:EUROLABS
URL:https://ric.ijs.si/en/event/obsevanja-na-nizkih-moceh-2/
CATEGORIES:Obratovanje
END:VEVENT
BEGIN:VEVENT
DTSTART;TZID=Europe/Ljubljana:20230123T080000
DTEND;TZID=Europe/Ljubljana:20230123T160000
DTSTAMP:20260422T031747
CREATED:20230119T074105Z
LAST-MODIFIED:20230119T074105Z
UID:10001010-1674460800-1674489600@ric.ijs.si
SUMMARY:Obsevanja na nizkih močeh
DESCRIPTION:EUROLABS
URL:https://ric.ijs.si/en/event/obsevanja-na-nizkih-moceh-3/
CATEGORIES:Obratovanje
END:VEVENT
BEGIN:VEVENT
DTSTART;TZID=Europe/Ljubljana:20230125T093000
DTEND;TZID=Europe/Ljubljana:20230125T130000
DTSTAMP:20260422T031747
CREATED:20230123T143336Z
LAST-MODIFIED:20230123T143336Z
UID:10001012-1674639000-1674651600@ric.ijs.si
SUMMARY:Obsevanje na različnih močeh
DESCRIPTION:F9: V. Cindro
URL:https://ric.ijs.si/en/event/obsevanje-na-razlicnih-moceh-10/
CATEGORIES:Obratovanje
END:VEVENT
BEGIN:VEVENT
DTSTART;TZID=Europe/Ljubljana:20230127T090000
DTEND;TZID=Europe/Ljubljana:20230127T130000
DTSTAMP:20260422T031747
CREATED:20230123T143411Z
LAST-MODIFIED:20230123T143411Z
UID:10000851-1674810000-1674824400@ric.ijs.si
SUMMARY:Obsevanje v tangencialnem kanalu
DESCRIPTION:F9: V. Cindro
URL:https://ric.ijs.si/en/event/obsevanje-v-tangencialnem-kanalu/
CATEGORIES:Obratovanje
END:VEVENT
END:VCALENDAR