BEGIN:VCALENDAR
VERSION:2.0
PRODID:-//Reaktorski Infrastrukturni center - ECPv6.15.17.1//NONSGML v1.0//EN
CALSCALE:GREGORIAN
METHOD:PUBLISH
X-ORIGINAL-URL:https://ric.ijs.si/en/
X-WR-CALDESC:Events for Reaktorski Infrastrukturni center
REFRESH-INTERVAL;VALUE=DURATION:PT1H
X-Robots-Tag:noindex
X-PUBLISHED-TTL:PT1H
BEGIN:VTIMEZONE
TZID:Europe/Ljubljana
BEGIN:DAYLIGHT
TZOFFSETFROM:+0100
TZOFFSETTO:+0200
TZNAME:CEST
DTSTART:20210328T010000
END:DAYLIGHT
BEGIN:STANDARD
TZOFFSETFROM:+0200
TZOFFSETTO:+0100
TZNAME:CET
DTSTART:20211031T010000
END:STANDARD
BEGIN:DAYLIGHT
TZOFFSETFROM:+0100
TZOFFSETTO:+0200
TZNAME:CEST
DTSTART:20220327T010000
END:DAYLIGHT
BEGIN:STANDARD
TZOFFSETFROM:+0200
TZOFFSETTO:+0100
TZNAME:CET
DTSTART:20221030T010000
END:STANDARD
BEGIN:DAYLIGHT
TZOFFSETFROM:+0100
TZOFFSETTO:+0200
TZNAME:CEST
DTSTART:20230326T010000
END:DAYLIGHT
BEGIN:STANDARD
TZOFFSETFROM:+0200
TZOFFSETTO:+0100
TZNAME:CET
DTSTART:20231029T010000
END:STANDARD
END:VTIMEZONE
BEGIN:VEVENT
DTSTART;TZID=Europe/Ljubljana:20221202T080000
DTEND;TZID=Europe/Ljubljana:20221202T170000
DTSTAMP:20260422T050126
CREATED:20220923T061520Z
LAST-MODIFIED:20220923T061520Z
UID:10000938-1669968000-1670000400@ric.ijs.si
SUMMARY:Kritični eksperiment
DESCRIPTION:F8: Luka Snoj
URL:https://ric.ijs.si/en/event/kriticni-eksperiment-2/
CATEGORIES:Obratovanje
END:VEVENT
BEGIN:VEVENT
DTSTART;TZID=Europe/Ljubljana:20221206T080000
DTEND;TZID=Europe/Ljubljana:20221208T160000
DTSTAMP:20260422T050126
CREATED:20220922T092205Z
LAST-MODIFIED:20220922T092205Z
UID:10000936-1670313600-1670515200@ric.ijs.si
SUMMARY:Obsevanja na različnih močeh
DESCRIPTION:F8\, CEA\, I-Tech
URL:https://ric.ijs.si/en/event/obsevanja-na-razlicnih-moceh-3/
CATEGORIES:Obratovanje
END:VEVENT
BEGIN:VEVENT
DTSTART;TZID=Europe/Ljubljana:20221213T093000
DTEND;TZID=Europe/Ljubljana:20221213T120000
DTSTAMP:20260422T050126
CREATED:20221208T124905Z
LAST-MODIFIED:20221209T093932Z
UID:10000840-1670923800-1670932800@ric.ijs.si
SUMMARY:Obsevanje na različnih močeh
DESCRIPTION:F9: V. Cindro
URL:https://ric.ijs.si/en/event/obsevanje-na-razlicnih-moceh-7/
CATEGORIES:Obratovanje
END:VEVENT
BEGIN:VEVENT
DTSTART;TZID=Europe/Ljubljana:20221221T080000
DTEND;TZID=Europe/Ljubljana:20221221T120000
DTSTAMP:20260422T050126
CREATED:20221128T074743Z
LAST-MODIFIED:20221128T074743Z
UID:10000987-1671609600-1671624000@ric.ijs.si
SUMMARY:Izpiti za operaterja
DESCRIPTION:Luka Snoj
URL:https://ric.ijs.si/en/event/izpiti-za-operaterja/
CATEGORIES:Obratovanje
END:VEVENT
END:VCALENDAR