BEGIN:VCALENDAR
VERSION:2.0
PRODID:-//Reaktorski Infrastrukturni center - ECPv6.15.17.1//NONSGML v1.0//EN
CALSCALE:GREGORIAN
METHOD:PUBLISH
X-ORIGINAL-URL:https://ric.ijs.si/en/
X-WR-CALDESC:Events for Reaktorski Infrastrukturni center
REFRESH-INTERVAL;VALUE=DURATION:PT1H
X-Robots-Tag:noindex
X-PUBLISHED-TTL:PT1H
BEGIN:VTIMEZONE
TZID:Europe/Ljubljana
BEGIN:DAYLIGHT
TZOFFSETFROM:+0100
TZOFFSETTO:+0200
TZNAME:CEST
DTSTART:20210328T010000
END:DAYLIGHT
BEGIN:STANDARD
TZOFFSETFROM:+0200
TZOFFSETTO:+0100
TZNAME:CET
DTSTART:20211031T010000
END:STANDARD
BEGIN:DAYLIGHT
TZOFFSETFROM:+0100
TZOFFSETTO:+0200
TZNAME:CEST
DTSTART:20220327T010000
END:DAYLIGHT
BEGIN:STANDARD
TZOFFSETFROM:+0200
TZOFFSETTO:+0100
TZNAME:CET
DTSTART:20221030T010000
END:STANDARD
BEGIN:DAYLIGHT
TZOFFSETFROM:+0100
TZOFFSETTO:+0200
TZNAME:CEST
DTSTART:20230326T010000
END:DAYLIGHT
BEGIN:STANDARD
TZOFFSETFROM:+0200
TZOFFSETTO:+0100
TZNAME:CET
DTSTART:20231029T010000
END:STANDARD
END:VTIMEZONE
BEGIN:VEVENT
DTSTART;TZID=Europe/Ljubljana:20221004T090000
DTEND;TZID=Europe/Ljubljana:20221004T120000
DTSTAMP:20260422T165934
CREATED:20220921T111112Z
LAST-MODIFIED:20220921T111112Z
UID:10000932-1664874000-1664884800@ric.ijs.si
SUMMARY:Obsevanja na 250 kW
DESCRIPTION:F9: V Cindro
URL:https://ric.ijs.si/en/event/obsevanja-na-250-kw-2/
CATEGORIES:Obratovanje
END:VEVENT
BEGIN:VEVENT
DTSTART;TZID=Europe/Ljubljana:20221005T080000
DTEND;TZID=Europe/Ljubljana:20221005T160000
DTSTAMP:20260422T165934
CREATED:20220916T130755Z
LAST-MODIFIED:20220927T081958Z
UID:10000923-1664956800-1664985600@ric.ijs.si
SUMMARY:Priprave na zagonske teste
DESCRIPTION:F8\, Igor Lengar
URL:https://ric.ijs.si/en/event/priprave-na-zagonske-teste/2022-10-05/
CATEGORIES:Obratovanje
END:VEVENT
BEGIN:VEVENT
DTSTART;TZID=Europe/Ljubljana:20221007T080000
DTEND;TZID=Europe/Ljubljana:20221007T160000
DTSTAMP:20260422T165934
CREATED:20220916T130755Z
LAST-MODIFIED:20220927T081958Z
UID:10000924-1665129600-1665158400@ric.ijs.si
SUMMARY:Priprave na zagonske teste
DESCRIPTION:F8\, Igor Lengar
URL:https://ric.ijs.si/en/event/priprave-na-zagonske-teste/2022-10-07/
CATEGORIES:Obratovanje
END:VEVENT
BEGIN:VEVENT
DTSTART;TZID=Europe/Ljubljana:20221012T080000
DTEND;TZID=Europe/Ljubljana:20221012T120000
DTSTAMP:20260422T165934
CREATED:20220920T084036Z
LAST-MODIFIED:20220927T082537Z
UID:10000928-1665561600-1665576000@ric.ijs.si
SUMMARY:Priprave na zagonske teste
DESCRIPTION:F8: Igor Lengar
URL:https://ric.ijs.si/en/event/priprave-na-zagonske-teste-2/2022-10-12/
CATEGORIES:Obratovanje
END:VEVENT
BEGIN:VEVENT
DTSTART;TZID=Europe/Ljubljana:20221013T080000
DTEND;TZID=Europe/Ljubljana:20221013T160000
DTSTAMP:20260422T165934
CREATED:20220920T084036Z
LAST-MODIFIED:20220927T082537Z
UID:10000929-1665648000-1665676800@ric.ijs.si
SUMMARY:Priprave na zagonske teste
DESCRIPTION:F8: Igor Lengar
URL:https://ric.ijs.si/en/event/priprave-na-zagonske-teste-2/2022-10-13/
CATEGORIES:Obratovanje
END:VEVENT
BEGIN:VEVENT
DTSTART;TZID=Europe/Ljubljana:20221014T080000
DTEND;TZID=Europe/Ljubljana:20221014T160000
DTSTAMP:20260422T165934
CREATED:20220920T084036Z
LAST-MODIFIED:20220927T082537Z
UID:10000930-1665734400-1665763200@ric.ijs.si
SUMMARY:Priprave na zagonske teste
DESCRIPTION:F8: Igor Lengar
URL:https://ric.ijs.si/en/event/priprave-na-zagonske-teste-2/2022-10-14/
CATEGORIES:Obratovanje
END:VEVENT
BEGIN:VEVENT
DTSTART;TZID=Europe/Ljubljana:20221018T130000
DTEND;TZID=Europe/Ljubljana:20221018T153000
DTSTAMP:20260422T165934
CREATED:20220722T123555Z
LAST-MODIFIED:20220920T095713Z
UID:10000894-1666098000-1666107000@ric.ijs.si
SUMMARY:Priprave na zagonske teste NEK
DESCRIPTION:
URL:https://ric.ijs.si/en/event/priprave-na-zagonske-teste-nek-2022-10-18/
CATEGORIES:Obratovanje
END:VEVENT
END:VCALENDAR