BEGIN:VCALENDAR
VERSION:2.0
PRODID:-//Reaktorski Infrastrukturni center - ECPv6.15.17.1//NONSGML v1.0//EN
CALSCALE:GREGORIAN
METHOD:PUBLISH
X-ORIGINAL-URL:https://ric.ijs.si/en/
X-WR-CALDESC:Events for Reaktorski Infrastrukturni center
REFRESH-INTERVAL;VALUE=DURATION:PT1H
X-Robots-Tag:noindex
X-PUBLISHED-TTL:PT1H
BEGIN:VTIMEZONE
TZID:Europe/Ljubljana
BEGIN:DAYLIGHT
TZOFFSETFROM:+0100
TZOFFSETTO:+0200
TZNAME:CEST
DTSTART:20210328T010000
END:DAYLIGHT
BEGIN:STANDARD
TZOFFSETFROM:+0200
TZOFFSETTO:+0100
TZNAME:CET
DTSTART:20211031T010000
END:STANDARD
BEGIN:DAYLIGHT
TZOFFSETFROM:+0100
TZOFFSETTO:+0200
TZNAME:CEST
DTSTART:20220327T010000
END:DAYLIGHT
BEGIN:STANDARD
TZOFFSETFROM:+0200
TZOFFSETTO:+0100
TZNAME:CET
DTSTART:20221030T010000
END:STANDARD
BEGIN:DAYLIGHT
TZOFFSETFROM:+0100
TZOFFSETTO:+0200
TZNAME:CEST
DTSTART:20230326T010000
END:DAYLIGHT
BEGIN:STANDARD
TZOFFSETFROM:+0200
TZOFFSETTO:+0100
TZNAME:CET
DTSTART:20231029T010000
END:STANDARD
END:VTIMEZONE
BEGIN:VTIMEZONE
TZID:Europe/Helsinki
BEGIN:DAYLIGHT
TZOFFSETFROM:+0200
TZOFFSETTO:+0300
TZNAME:EEST
DTSTART:20210328T010000
END:DAYLIGHT
BEGIN:STANDARD
TZOFFSETFROM:+0300
TZOFFSETTO:+0200
TZNAME:EET
DTSTART:20211031T010000
END:STANDARD
BEGIN:DAYLIGHT
TZOFFSETFROM:+0200
TZOFFSETTO:+0300
TZNAME:EEST
DTSTART:20220327T010000
END:DAYLIGHT
BEGIN:STANDARD
TZOFFSETFROM:+0300
TZOFFSETTO:+0200
TZNAME:EET
DTSTART:20221030T010000
END:STANDARD
BEGIN:DAYLIGHT
TZOFFSETFROM:+0200
TZOFFSETTO:+0300
TZNAME:EEST
DTSTART:20230326T010000
END:DAYLIGHT
BEGIN:STANDARD
TZOFFSETFROM:+0300
TZOFFSETTO:+0200
TZNAME:EET
DTSTART:20231029T010000
END:STANDARD
END:VTIMEZONE
BEGIN:VEVENT
DTSTART;TZID=Europe/Ljubljana:20220505T080000
DTEND;TZID=Europe/Ljubljana:20220505T140000
DTSTAMP:20260423T085532
CREATED:20220509T085111Z
LAST-MODIFIED:20220509T085111Z
UID:10000756-1651737600-1651759200@ric.ijs.si
SUMMARY:Obsevanja na 250 kW
DESCRIPTION:F9 Kramberger
URL:https://ric.ijs.si/en/event/obsevanja-na-250-kw/
CATEGORIES:Obratovanje
END:VEVENT
BEGIN:VEVENT
DTSTART;TZID=Europe/Ljubljana:20220506T090000
DTEND;TZID=Europe/Ljubljana:20220506T140000
DTSTAMP:20260423T085532
CREATED:20220509T085151Z
LAST-MODIFIED:20220509T085151Z
UID:10000758-1651827600-1651845600@ric.ijs.si
SUMMARY:Obsevanje na 250 kW
DESCRIPTION:F8\, Radulović
URL:https://ric.ijs.si/en/event/obsevanje-na-250-kw-11/
CATEGORIES:Obratovanje
END:VEVENT
BEGIN:VEVENT
DTSTART;TZID=Europe/Ljubljana:20220510T130000
DTEND;TZID=Europe/Ljubljana:20220510T153000
DTSTAMP:20260423T085532
CREATED:20220509T085254Z
LAST-MODIFIED:20220509T085254Z
UID:10000760-1652187600-1652196600@ric.ijs.si
SUMMARY:Obsevanje na 250 kW
DESCRIPTION:F9\, Cindro
URL:https://ric.ijs.si/en/event/obsevanje-na-250-kw-12/
CATEGORIES:Obratovanje
END:VEVENT
BEGIN:VEVENT
DTSTART;TZID=Europe/Helsinki:20220516T080000
DTEND;TZID=Europe/Helsinki:20220520T170000
DTSTAMP:20260423T085532
CREATED:20210209T101242Z
LAST-MODIFIED:20220313T091909Z
UID:10000711-1652688000-1653066000@ric.ijs.si
SUMMARY:Dozimetrija CEA
DESCRIPTION:F8 in CEA
URL:https://ric.ijs.si/en/event/dozimetrija-cea/
CATEGORIES:Obratovanje
END:VEVENT
BEGIN:VEVENT
DTSTART;TZID=Europe/Helsinki:20220523T080000
DTEND;TZID=Europe/Helsinki:20220526T120000
DTSTAMP:20260423T085532
CREATED:20211221T101308Z
LAST-MODIFIED:20220401T091827Z
UID:10000794-1653292800-1653566400@ric.ijs.si
SUMMARY:Dozimetrija CEA
DESCRIPTION:F8 in CEA
URL:https://ric.ijs.si/en/event/dozimetrija-cea-2/
CATEGORIES:Obratovanje
END:VEVENT
BEGIN:VEVENT
DTSTART;TZID=Europe/Ljubljana:20220526T120000
DTEND;TZID=Europe/Ljubljana:20220526T170000
DTSTAMP:20260423T085532
CREATED:20220401T090930Z
LAST-MODIFIED:20220401T092045Z
UID:10000820-1653566400-1653584400@ric.ijs.si
SUMMARY:Vaja: približevanje pritičnosti on odziv reaktorja na SSR
DESCRIPTION:Gašper Žerovnik
URL:https://ric.ijs.si/en/event/vaja-priblizevanje-priticnosti-on-odziv-reaktorja-na-ssr/
CATEGORIES:Obratovanje,Vaje
END:VEVENT
BEGIN:VEVENT
DTSTART;TZID=Europe/Ljubljana:20220527T080000
DTEND;TZID=Europe/Ljubljana:20220527T160000
DTSTAMP:20260423T085532
CREATED:20220401T091852Z
LAST-MODIFIED:20220401T091852Z
UID:10000821-1653638400-1653667200@ric.ijs.si
SUMMARY:Dozimetrija CEA
DESCRIPTION:F8 in CEA
URL:https://ric.ijs.si/en/event/dozimetrija-cea-3/
CATEGORIES:Obratovanje
END:VEVENT
BEGIN:VEVENT
DTSTART;TZID=Europe/Helsinki:20220530T080000
DTEND;TZID=Europe/Helsinki:20220603T150000
DTSTAMP:20260423T085532
CREATED:20210915T060727Z
LAST-MODIFIED:20220313T091842Z
UID:10000770-1653897600-1654268400@ric.ijs.si
SUMMARY:Obsevanje na različnih močeh
DESCRIPTION:
URL:https://ric.ijs.si/en/event/obsevanje-na-razlicnih-moceh-3/
CATEGORIES:Obratovanje
END:VEVENT
END:VCALENDAR