BEGIN:VCALENDAR
VERSION:2.0
PRODID:-//Reaktorski Infrastrukturni center - ECPv6.15.17.1//NONSGML v1.0//EN
CALSCALE:GREGORIAN
METHOD:PUBLISH
X-ORIGINAL-URL:https://ric.ijs.si/en/
X-WR-CALDESC:Events for Reaktorski Infrastrukturni center
REFRESH-INTERVAL;VALUE=DURATION:PT1H
X-Robots-Tag:noindex
X-PUBLISHED-TTL:PT1H
BEGIN:VTIMEZONE
TZID:Europe/Helsinki
BEGIN:DAYLIGHT
TZOFFSETFROM:+0200
TZOFFSETTO:+0300
TZNAME:EEST
DTSTART:20200329T010000
END:DAYLIGHT
BEGIN:STANDARD
TZOFFSETFROM:+0300
TZOFFSETTO:+0200
TZNAME:EET
DTSTART:20201025T010000
END:STANDARD
BEGIN:DAYLIGHT
TZOFFSETFROM:+0200
TZOFFSETTO:+0300
TZNAME:EEST
DTSTART:20210328T010000
END:DAYLIGHT
BEGIN:STANDARD
TZOFFSETFROM:+0300
TZOFFSETTO:+0200
TZNAME:EET
DTSTART:20211031T010000
END:STANDARD
BEGIN:DAYLIGHT
TZOFFSETFROM:+0200
TZOFFSETTO:+0300
TZNAME:EEST
DTSTART:20220327T010000
END:DAYLIGHT
BEGIN:STANDARD
TZOFFSETFROM:+0300
TZOFFSETTO:+0200
TZNAME:EET
DTSTART:20221030T010000
END:STANDARD
END:VTIMEZONE
BEGIN:VEVENT
DTSTART;TZID=Europe/Helsinki:20211108T120000
DTEND;TZID=Europe/Helsinki:20211108T160000
DTSTAMP:20260420T035028
CREATED:20210816T060839Z
LAST-MODIFIED:20211102T110559Z
UID:10000736-1636372800-1636387200@ric.ijs.si
SUMMARY:Vaja: Meritev porazdelitve moči
DESCRIPTION:
URL:https://ric.ijs.si/en/event/vaja-podkriticno-pomnozevanje-in-stopnicasta-sprememba-reaktivnosti/
CATEGORIES:ICJT tečaji
END:VEVENT
BEGIN:VEVENT
DTSTART;TZID=Europe/Helsinki:20211109T120000
DTEND;TZID=Europe/Helsinki:20211109T160000
DTSTAMP:20260420T035028
CREATED:20210816T060859Z
LAST-MODIFIED:20211102T110616Z
UID:10000737-1636459200-1636473600@ric.ijs.si
SUMMARY:Vaja: Meritev porazdelitve moči
DESCRIPTION:
URL:https://ric.ijs.si/en/event/vaja-podkriticno-pomnozevanje-in-stopnicasta-sprememba-reaktivnosti-2/
CATEGORIES:ICJT tečaji
END:VEVENT
BEGIN:VEVENT
DTSTART;TZID=Europe/Helsinki:20211110T120000
DTEND;TZID=Europe/Helsinki:20211110T160000
DTSTAMP:20260420T035028
CREATED:20210816T060920Z
LAST-MODIFIED:20211102T110628Z
UID:10000738-1636545600-1636560000@ric.ijs.si
SUMMARY:Vaja: Meritev porazdelitve moči
DESCRIPTION:
URL:https://ric.ijs.si/en/event/vaja-podkriticno-pomnozevanje-in-stopnicasta-sprememba-reaktivnosti-3/
CATEGORIES:ICJT tečaji
END:VEVENT
BEGIN:VEVENT
DTSTART;TZID=Europe/Helsinki:20211112T120000
DTEND;TZID=Europe/Helsinki:20211112T160000
DTSTAMP:20260420T035028
CREATED:20210816T061048Z
LAST-MODIFIED:20211102T110701Z
UID:10000740-1636718400-1636732800@ric.ijs.si
SUMMARY:Vaji: Podkritično pomnoževanje in odziva na stopničasto spremembo reaktivnosti
DESCRIPTION:
URL:https://ric.ijs.si/en/event/vaja-umeritev-regulacijske-palice-2/
CATEGORIES:ICJT tečaji
END:VEVENT
BEGIN:VEVENT
DTSTART;TZID=Europe/Helsinki:20211115T120000
DTEND;TZID=Europe/Helsinki:20211115T160000
DTSTAMP:20260420T035028
CREATED:20210816T061032Z
LAST-MODIFIED:20211102T110726Z
UID:10000739-1636977600-1636992000@ric.ijs.si
SUMMARY:Vaji: Podkritično pomnoževanje in odziva na stopničasto spremembo reaktivnosti
DESCRIPTION:
URL:https://ric.ijs.si/en/event/vaja-umeritev-regulacijske-palice/
CATEGORIES:ICJT tečaji
END:VEVENT
BEGIN:VEVENT
DTSTART;TZID=Europe/Helsinki:20211116T120000
DTEND;TZID=Europe/Helsinki:20211116T160000
DTSTAMP:20260420T035028
CREATED:20210816T061110Z
LAST-MODIFIED:20211102T110819Z
UID:10000741-1637064000-1637078400@ric.ijs.si
SUMMARY:Vaji: Podkritično pomnoževanje in odziva na stopničasto spremembo reaktivnosti
DESCRIPTION:
URL:https://ric.ijs.si/en/event/vaja-umeritev-regulacijske-palice-3/
CATEGORIES:ICJT tečaji
END:VEVENT
BEGIN:VEVENT
DTSTART;TZID=Europe/Helsinki:20211117T120000
DTEND;TZID=Europe/Helsinki:20211117T160000
DTSTAMP:20260420T035028
CREATED:20210816T061340Z
LAST-MODIFIED:20211102T110808Z
UID:10000745-1637150400-1637164800@ric.ijs.si
SUMMARY:Vaja: Umeritev regulacijske palice
DESCRIPTION:
URL:https://ric.ijs.si/en/event/vaja-koeficienti-praznin/
CATEGORIES:ICJT tečaji
END:VEVENT
BEGIN:VEVENT
DTSTART;TZID=Europe/Helsinki:20211119T120000
DTEND;TZID=Europe/Helsinki:20211119T160000
DTSTAMP:20260420T035028
CREATED:20210816T061354Z
LAST-MODIFIED:20211102T111125Z
UID:10000746-1637323200-1637337600@ric.ijs.si
SUMMARY:Vaja: Umeritev regulacijske palice
DESCRIPTION:
URL:https://ric.ijs.si/en/event/vaja-koeficienti-praznin-2/
CATEGORIES:ICJT tečaji
END:VEVENT
BEGIN:VEVENT
DTSTART;TZID=Europe/Helsinki:20211119T130000
DTEND;TZID=Europe/Helsinki:20211119T150000
DTSTAMP:20260420T035028
CREATED:20211109T103901Z
LAST-MODIFIED:20211109T103901Z
UID:10000784-1637326800-1637334000@ric.ijs.si
SUMMARY:Ogled OTJE
DESCRIPTION:
URL:https://ric.ijs.si/en/event/ogled-otje/
CATEGORIES:ICJT tečaji,Obiski
END:VEVENT
BEGIN:VEVENT
DTSTART;TZID=Europe/Helsinki:20211122T120000
DTEND;TZID=Europe/Helsinki:20211122T160000
DTSTAMP:20260420T035028
CREATED:20210816T061412Z
LAST-MODIFIED:20211102T111134Z
UID:10000747-1637582400-1637596800@ric.ijs.si
SUMMARY:Vaja: Umeritev regulacijske palice
DESCRIPTION:
URL:https://ric.ijs.si/en/event/vaja-koeficienti-praznin-3/
CATEGORIES:ICJT tečaji
END:VEVENT
BEGIN:VEVENT
DTSTART;TZID=Europe/Helsinki:20211123T120000
DTEND;TZID=Europe/Helsinki:20211123T160000
DTSTAMP:20260420T035028
CREATED:20210816T061227Z
LAST-MODIFIED:20211102T111300Z
UID:10000742-1637668800-1637683200@ric.ijs.si
SUMMARY:Vaja: Koeficienti praznin
DESCRIPTION:
URL:https://ric.ijs.si/en/event/vaji-temperaturni-koeficienti-reaktivnosti-goriva-in-aktivacija-primarne-vode/
CATEGORIES:ICJT tečaji
END:VEVENT
BEGIN:VEVENT
DTSTART;TZID=Europe/Helsinki:20211124T120000
DTEND;TZID=Europe/Helsinki:20211124T160000
DTSTAMP:20260420T035028
CREATED:20210816T061244Z
LAST-MODIFIED:20211102T111319Z
UID:10000743-1637755200-1637769600@ric.ijs.si
SUMMARY:Vaja: Koeficienti praznin
DESCRIPTION:
URL:https://ric.ijs.si/en/event/vaji-temperaturni-koeficienti-reaktivnosti-goriva-in-aktivacija-primarne-vode-2/
CATEGORIES:ICJT tečaji
END:VEVENT
BEGIN:VEVENT
DTSTART;TZID=Europe/Helsinki:20211126T120000
DTEND;TZID=Europe/Helsinki:20211126T160000
DTSTAMP:20260420T035028
CREATED:20210816T061301Z
LAST-MODIFIED:20211102T111345Z
UID:10000744-1637928000-1637942400@ric.ijs.si
SUMMARY:Vaja: Koeficienti praznin
DESCRIPTION:
URL:https://ric.ijs.si/en/event/vaji-temperaturni-koeficienti-reaktivnosti-goriva-in-aktivacija-primarne-vode-3/
CATEGORIES:ICJT tečaji
END:VEVENT
END:VCALENDAR