BEGIN:VCALENDAR
VERSION:2.0
PRODID:-//Reaktorski Infrastrukturni center - ECPv6.15.17.1//NONSGML v1.0//EN
CALSCALE:GREGORIAN
METHOD:PUBLISH
X-ORIGINAL-URL:https://ric.ijs.si/en/
X-WR-CALDESC:Events for Reaktorski Infrastrukturni center
REFRESH-INTERVAL;VALUE=DURATION:PT1H
X-Robots-Tag:noindex
X-PUBLISHED-TTL:PT1H
BEGIN:VTIMEZONE
TZID:Europe/Helsinki
BEGIN:DAYLIGHT
TZOFFSETFROM:+0200
TZOFFSETTO:+0300
TZNAME:EEST
DTSTART:20210328T010000
END:DAYLIGHT
BEGIN:STANDARD
TZOFFSETFROM:+0300
TZOFFSETTO:+0200
TZNAME:EET
DTSTART:20211031T010000
END:STANDARD
BEGIN:DAYLIGHT
TZOFFSETFROM:+0200
TZOFFSETTO:+0300
TZNAME:EEST
DTSTART:20220327T010000
END:DAYLIGHT
BEGIN:STANDARD
TZOFFSETFROM:+0300
TZOFFSETTO:+0200
TZNAME:EET
DTSTART:20221030T010000
END:STANDARD
BEGIN:DAYLIGHT
TZOFFSETFROM:+0200
TZOFFSETTO:+0300
TZNAME:EEST
DTSTART:20230326T010000
END:DAYLIGHT
BEGIN:STANDARD
TZOFFSETFROM:+0300
TZOFFSETTO:+0200
TZNAME:EET
DTSTART:20231029T010000
END:STANDARD
END:VTIMEZONE
BEGIN:VEVENT
DTSTART;TZID=Europe/Helsinki:20220110T080000
DTEND;TZID=Europe/Helsinki:20220114T150000
DTSTAMP:20260420T002706
CREATED:20211108T100737Z
LAST-MODIFIED:20211108T100737Z
UID:10000731-1641801600-1642172400@ric.ijs.si
SUMMARY:Obsevanje na različnih močeh
DESCRIPTION:
URL:https://ric.ijs.si/en/event/obsevanje-na-razlicnih-moceh-5/
CATEGORIES:F9
END:VEVENT
BEGIN:VEVENT
DTSTART;TZID=Europe/Helsinki:20220131T090000
DTEND;TZID=Europe/Helsinki:20220131T120000
DTSTAMP:20260420T002706
CREATED:20220120T141628Z
LAST-MODIFIED:20220120T141628Z
UID:10000801-1643619600-1643630400@ric.ijs.si
SUMMARY:Obsevanje na 250 kW
DESCRIPTION:
URL:https://ric.ijs.si/en/event/obsevanje-na-250-kw-5/
CATEGORIES:F9
END:VEVENT
END:VCALENDAR